BEGIN:VCALENDAR
VERSION:2.0
PRODID:icalendar-ruby
CALSCALE:GREGORIAN
METHOD:PUBLISH
BEGIN:VEVENT
DTSTAMP:20260423T164306Z
UID:154-525866@ascentchurch.ca
DTSTART;VALUE=DATE:20260525
DTEND;VALUE=DATE:20260529
CLASS:PUBLIC
CREATED:20260422T153202
DESCRIPTION:
LAST-MODIFIED:20260422T153202
LOCATION:
SUMMARY:Thrive Week
URL;VALUE=URI:https://antiochcanada.ca/events/thrive-week--154/2026-05-25
ATTACH;FILENAME=615790671_1333024452198935_3178207856189582632_n.jpg;FMTTYP
 E=image/jpeg:https://dq5pwpg1q8ru0.cloudfront.net/2026/01/15/18/06/49/0fc4
 8b0b-4c48-42b6-8198-8254033a652b/615790671_1333024452198935_31782078561895
 82632_n.jpg
END:VEVENT
END:VCALENDAR
